BEGIN:VCALENDAR
VERSION:2.0
PRODID:-//Mira Book Gem - ECPv6.15.13.1//NONSGML v1.0//EN
CALSCALE:GREGORIAN
METHOD:PUBLISH
X-WR-CALNAME:Mira Book Gem
X-ORIGINAL-URL:https://mirabookgem.com
X-WR-CALDESC:Events for Mira Book Gem
REFRESH-INTERVAL;VALUE=DURATION:PT1H
X-Robots-Tag:noindex
X-PUBLISHED-TTL:PT1H
BEGIN:VTIMEZONE
TZID:America/Chicago
BEGIN:DAYLIGHT
TZOFFSETFROM:-0600
TZOFFSETTO:-0500
TZNAME:CDT
DTSTART:20240310T080000
END:DAYLIGHT
BEGIN:STANDARD
TZOFFSETFROM:-0500
TZOFFSETTO:-0600
TZNAME:CST
DTSTART:20241103T070000
END:STANDARD
BEGIN:DAYLIGHT
TZOFFSETFROM:-0600
TZOFFSETTO:-0500
TZNAME:CDT
DTSTART:20250309T080000
END:DAYLIGHT
BEGIN:STANDARD
TZOFFSETFROM:-0500
TZOFFSETTO:-0600
TZNAME:CST
DTSTART:20251102T070000
END:STANDARD
BEGIN:DAYLIGHT
TZOFFSETFROM:-0600
TZOFFSETTO:-0500
TZNAME:CDT
DTSTART:20260308T080000
END:DAYLIGHT
BEGIN:STANDARD
TZOFFSETFROM:-0500
TZOFFSETTO:-0600
TZNAME:CST
DTSTART:20261101T070000
END:STANDARD
END:VTIMEZONE
BEGIN:VEVENT
DTSTART;TZID=America/Chicago:20250602T090000
DTEND;TZID=America/Chicago:20250603T170000
DTSTAMP:20260420T095938
CREATED:20250527T150503Z
LAST-MODIFIED:20250527T150503Z
UID:3374-1748854800-1748970000@mirabookgem.com
SUMMARY:International Conference on Distance Education and Innovative Teaching Models (ICDEITM)
DESCRIPTION:About the International Conference on Distance Education and Innovative Teaching Models (ICDEITM). is a great way to build networking by engaging in discussion relating to Education Topics. This platform wants to bring all the students\, researchers\, and professionals to one stage to discuss new opportunities\, ideas\, and developments. Bioinformatics is a great way to build networking
URL:https://mirabookgem.com/event/international-conference-on-distance-education-and-innovative-teaching-models-icdeitm/
CATEGORIES:Education
ORGANIZER;CN="Jeff Jones":MAILTO:info@iarfconference.com
END:VEVENT
BEGIN:VEVENT
DTSTART;TZID=America/Chicago:20250602T090000
DTEND;TZID=America/Chicago:20250603T170000
DTSTAMP:20260420T095938
CREATED:20250526T132113Z
LAST-MODIFIED:20250526T132113Z
UID:3342-1748854800-1748970000@mirabookgem.com
SUMMARY:World Conference on Educational Sciences (WCOES)
DESCRIPTION:About the World Conference on Educational Sciences (WCOES). is a great way to build networking by engaging in discussion relating to Education Topics. This platform wants to bring all the students\, researchers\, and professionals to one stage to discuss new opportunities\, ideas\, and developments. Bioinformatics is a great way to build networking
URL:https://mirabookgem.com/event/world-conference-on-educational-sciences-wcoes/
CATEGORIES:Education
ORGANIZER;CN="David Jacob":MAILTO:info@iierd.org
END:VEVENT
END:VCALENDAR