BEGIN:VCALENDAR
VERSION:2.0
PRODID:-//Mira Book Gem - ECPv6.15.13.1//NONSGML v1.0//EN
CALSCALE:GREGORIAN
METHOD:PUBLISH
X-WR-CALNAME:Mira Book Gem
X-ORIGINAL-URL:https://mirabookgem.com
X-WR-CALDESC:Events for Mira Book Gem
REFRESH-INTERVAL;VALUE=DURATION:PT1H
X-Robots-Tag:noindex
X-PUBLISHED-TTL:PT1H
BEGIN:VTIMEZONE
TZID:America/Chicago
BEGIN:DAYLIGHT
TZOFFSETFROM:-0600
TZOFFSETTO:-0500
TZNAME:CDT
DTSTART:20240310T080000
END:DAYLIGHT
BEGIN:STANDARD
TZOFFSETFROM:-0500
TZOFFSETTO:-0600
TZNAME:CST
DTSTART:20241103T070000
END:STANDARD
BEGIN:DAYLIGHT
TZOFFSETFROM:-0600
TZOFFSETTO:-0500
TZNAME:CDT
DTSTART:20250309T080000
END:DAYLIGHT
BEGIN:STANDARD
TZOFFSETFROM:-0500
TZOFFSETTO:-0600
TZNAME:CST
DTSTART:20251102T070000
END:STANDARD
BEGIN:DAYLIGHT
TZOFFSETFROM:-0600
TZOFFSETTO:-0500
TZNAME:CDT
DTSTART:20260308T080000
END:DAYLIGHT
BEGIN:STANDARD
TZOFFSETFROM:-0500
TZOFFSETTO:-0600
TZNAME:CST
DTSTART:20261101T070000
END:STANDARD
END:VTIMEZONE
BEGIN:VEVENT
DTSTART;TZID=America/Chicago:20250602T090000
DTEND;TZID=America/Chicago:20250603T170000
DTSTAMP:20260418T114413
CREATED:20250527T145052Z
LAST-MODIFIED:20250527T145052Z
UID:3362-1748854800-1748970000@mirabookgem.com
SUMMARY:International Conference on African Swine Fever and Transmission Studies (ICASFTS )
DESCRIPTION:About the International Conference on African Swine Fever and Transmission Studies (ICASFTS ). is a great way to build networking by engaging in discussion relating to Regional Studies Topics. This platform wants to bring all the students\, researchers\, and professionals to one stage to discuss new opportunities\, ideas\, and developments. Bioinformatics is a great way to build networking
URL:https://mirabookgem.com/event/international-conference-on-african-swine-fever-and-transmission-studies-icasfts/
CATEGORIES:Regional Studies
ORGANIZER;CN="Sonali Gupta (Abroad)":MAILTO:info@itar.in
END:VEVENT
BEGIN:VEVENT
DTSTART;TZID=America/Chicago:20250602T090000
DTEND;TZID=America/Chicago:20250603T170000
DTSTAMP:20260418T114413
CREATED:20250527T144813Z
LAST-MODIFIED:20250527T144813Z
UID:3358-1748854800-1748970000@mirabookgem.com
SUMMARY:International Conference on Strategic Studies and Security (ICOSSS )
DESCRIPTION:About the International Conference on Strategic Studies and Security (ICOSSS ). is a great way to build networking by engaging in discussion relating to Regional Studies Topics. This platform wants to bring all the students\, researchers\, and professionals to one stage to discuss new opportunities\, ideas\, and developments. Bioinformatics is a great way to build networking
URL:https://mirabookgem.com/event/international-conference-on-strategic-studies-and-security-icosss/
CATEGORIES:Regional Studies
ORGANIZER;CN="Alex Stewart":MAILTO:info@iirst.com
END:VEVENT
BEGIN:VEVENT
DTSTART;TZID=America/Chicago:20250602T090000
DTEND;TZID=America/Chicago:20250603T170000
DTSTAMP:20260418T114413
CREATED:20250526T142421Z
LAST-MODIFIED:20250526T142421Z
UID:3354-1748854800-1748970000@mirabookgem.com
SUMMARY:International Conference on Management\, Accounting\, Banking\, Economics and Business Research (ICMABEBR)
DESCRIPTION:About the International Conference on Management\, Accounting\, Banking\, Economics and Business Research (ICMABEBR). is a great way to build networking by engaging in discussion relating to Business Topics. This platform wants to bring all the students\, researchers\, and professionals to one stage to discuss new opportunities\, ideas\, and developments. Bioinformatics is a great way to build networking
URL:https://mirabookgem.com/event/international-conference-on-management-accounting-banking-economics-and-business-research-icmabebr/
CATEGORIES:Business
ORGANIZER;CN="Ananya S (Abroad)":MAILTO:info@sciencesociety.co
END:VEVENT
BEGIN:VEVENT
DTSTART;TZID=America/Chicago:20250602T090000
DTEND;TZID=America/Chicago:20250603T170000
DTSTAMP:20260418T114413
CREATED:20250526T142041Z
LAST-MODIFIED:20250526T142041Z
UID:3351-1748854800-1748970000@mirabookgem.com
SUMMARY:International Conference on Biopolitics and Sexuality (ICBS)
DESCRIPTION:About the International Conference on Biopolitics and Sexuality (ICBS). is a great way to build networking by engaging in discussion relating to Interdisciplinary Topics. This platform wants to bring all the students\, researchers\, and professionals to one stage to discuss new opportunities\, ideas\, and developments. Bioinformatics is a great way to build networking
URL:https://mirabookgem.com/event/international-conference-on-biopolitics-and-sexuality-icbs/
CATEGORIES:Interdisciplinary
ORGANIZER;CN="George Mathew (Abroad)":MAILTO:info@iser.org.in
END:VEVENT
BEGIN:VEVENT
DTSTART;TZID=America/Chicago:20250602T090000
DTEND;TZID=America/Chicago:20250603T170000
DTSTAMP:20260418T114413
CREATED:20250526T134557Z
LAST-MODIFIED:20250526T134557Z
UID:3348-1748854800-1748970000@mirabookgem.com
SUMMARY:International Conference on Religion and Religious Studies (ICRRS )
DESCRIPTION:About the International Conference on Religion and Religious Studies (ICRRS ). is a great way to build networking by engaging in discussion relating to Regional Studies Topics. This platform wants to bring all the students\, researchers\, and professionals to one stage to discuss new opportunities\, ideas\, and developments. Bioinformatics is a great way to build networking
URL:https://mirabookgem.com/event/international-conference-on-religion-and-religious-studies-icrrs/
CATEGORIES:Regional Studies
ORGANIZER;CN="Nathan Vincent":MAILTO:info@isit.org.in
END:VEVENT
BEGIN:VEVENT
DTSTART;TZID=America/Chicago:20250602T090000
DTEND;TZID=America/Chicago:20250603T170000
DTSTAMP:20260418T114413
CREATED:20250526T133616Z
LAST-MODIFIED:20250526T133616Z
UID:3345-1748854800-1748970000@mirabookgem.com
SUMMARY:International Conference on Medical Products Surveillance Current Scenario (ICMPSCS)
DESCRIPTION:About the International Conference on Medical Products Surveillance Current Scenario (ICMPSCS). is a great way to build networking by engaging in discussion relating to Pharmacy Topics. This platform wants to bring all the students\, researchers\, and professionals to one stage to discuss new opportunities\, ideas\, and developments. Bioinformatics is a great way to build networking \n 
URL:https://mirabookgem.com/event/international-conference-on-medical-products-surveillance-current-scenario-icmpscs/
CATEGORIES:Pharmacy
ORGANIZER;CN="Julia Wilson":MAILTO:team@efstm.com
END:VEVENT
BEGIN:VEVENT
DTSTART;TZID=America/Chicago:20250602T090000
DTEND;TZID=America/Chicago:20250603T170000
DTSTAMP:20260418T114413
CREATED:20250526T132113Z
LAST-MODIFIED:20250526T132113Z
UID:3342-1748854800-1748970000@mirabookgem.com
SUMMARY:World Conference on Educational Sciences (WCOES)
DESCRIPTION:About the World Conference on Educational Sciences (WCOES). is a great way to build networking by engaging in discussion relating to Education Topics. This platform wants to bring all the students\, researchers\, and professionals to one stage to discuss new opportunities\, ideas\, and developments. Bioinformatics is a great way to build networking
URL:https://mirabookgem.com/event/world-conference-on-educational-sciences-wcoes/
CATEGORIES:Education
ORGANIZER;CN="David Jacob":MAILTO:info@iierd.org
END:VEVENT
BEGIN:VEVENT
DTSTART;VALUE=DATE:20250602
DTEND;VALUE=DATE:20250604
DTSTAMP:20260418T114413
CREATED:20250520T125705Z
LAST-MODIFIED:20250520T125705Z
UID:3335-1748822400-1748995199@mirabookgem.com
SUMMARY:International Conference on Multidisciplinary Scientific Social Sciences and Arts (ICMSSSA)
DESCRIPTION:About the International Conference on Multidisciplinary Scientific Social Sciences and Arts (ICMSSSA). is a great way to build networking by engaging in discussion relating to Social Sciences and Humanities Topics. This platform wants to bring all the students\, researchers\, and professionals to one stage to discuss new opportunities\, ideas\, and developments. Bioinformatics is a great way to build networking
URL:https://mirabookgem.com/event/international-conference-on-multidisciplinary-scientific-social-sciences-and-arts-icmsssa/
CATEGORIES:Social Sciences and Humanities
ORGANIZER;CN="Emma Davis":MAILTO:info@scienceleagues.com
END:VEVENT
END:VCALENDAR